BEGIN:VCALENDAR
VERSION:2.0
CREATED:20260421T171906Z
PRODID:-//Graham Corporation/Equisolve Calendar v1.0//EN
METHOD:PUBLISH
BEGIN:VEVENT
UID:591baeef6fd21b9580168088bed5505d
DTSTAMP:20260423T120045Z
DTSTART:20260506T151500Z
DTEND:20260506T161500Z
SUMMARY:Oppenheimer 21st Annual Industrial Growth Conference
DESCRIPTION:Oppenheimer 21st Annual Industrial Growth Conference
Date: May 6\, 2026 11:15 AM EDT
Webcast: https://event.summitcast.com/view/RyxiUgLVMCDv2W8fW3DqdG/guest_book?session_id=MshRFrco8F9TRBTc4G8oLx
END:VEVENT
END:VCALENDAR
